BEGIN:VCALENDAR
VERSION:2.0
PRODID:-//eventon.com NONSGML v1.0//EN
BEGIN:VEVENT
UID:69e88fcb561bd
DTSTAMP:20260422T100723
DTSTART:20200312T010000Z
DTEND:20200312T010000Z
TZID:UTC
LOCATION:Wiener Wortstaetten  Oswaldgasse 35A\,  1120 Wien
SUMMARY:Anschlussfähig: 3 Fabulamundi's authors in Vienna
DESCRIPTION: On 12 March Wiener Wortstaetten\,  in cooperation with Burgtheater Wien will host the Kollektivsalon with the title Anschlussfähig. In this framework\,  three Fabulamundi playwrights\,  Malgorzata Sikorska-Miszczuk\,  Maxi Obexer and Jaroslav Rudis\,  will be invited. They have been commissioned to write a short play dealing with the historical date of March[..]\nhttps://www.fabulamundi.eu/events/anschlussfahig-3-fabulamundis-authors-in-vienna/
URL:https://www.fabulamundi.eu/events/anschlussfahig-3-fabulamundis-authors-in-vienna/
END:VEVENT
END:VCALENDAR