BEGIN:VCALENDAR
VERSION:2.0
PRODID:-//eventon.com NONSGML v1.0//EN
BEGIN:VEVENT
UID:69eb2d29e1d5e
DTSTAMP:20260424T094321
DTSTART:20200724T010000Z
DTEND:20200824T010000Z
TZID:UTC
LOCATION:PAV Via Buonarroti\,  30\,  Roma
SUMMARY:CALL! online workshop for Fabulamundi Effects
DESCRIPTION: Fabulamundi Effects will see three online workshops in English with their multidisciplinary proposals based on the mixture of languages ​​and aimed at heterogeneous professionals and non-professionals. deadline: 24 August 2020 all the information are available here.\nhttps://www.fabulamundi.eu/events/call-online-workshop-for-fabulamundi-effects/
URL:https://www.fabulamundi.eu/events/call-online-workshop-for-fabulamundi-effects/
END:VEVENT
END:VCALENDAR