BEGIN:VCALENDAR
VERSION:2.0
PRODID:-//eventon.com NONSGML v1.0//EN
BEGIN:VEVENT
UID:69e73bc5392cf
DTSTAMP:20260421T095637
DTSTART:20201118T010000Z
DTEND:20201119T010000Z
TZID:UTC
LOCATION:Wiener Wortstaetten  Oswaldgasse 35A\,  1120 Wien
SUMMARY:Symposium Female Perspectives on Contemporary playwriting
DESCRIPTION: The symposium FEMALE PERSPECTIVES ON CONTEMPORARY PLAYWRITING planned together with the Kosmos Theater and the planned staged reading on November 19 unfortunately cannot take place due to Coronavirus. Instead\,  two so-called "Happy Hour Talks" on the topic will take place online. On Wednesday 18th from 6:00 pm to 7:00 pm[..]\nhttps://www.fabulamundi.eu/events/symposium-female-perspectives-on-contemporary-playwriting/
URL:https://www.fabulamundi.eu/events/symposium-female-perspectives-on-contemporary-playwriting/
END:VEVENT
END:VCALENDAR