BEGIN:VCALENDAR
VERSION:2.0
PRODID:-//eventon.com NONSGML v1.0//EN
BEGIN:VEVENT
UID:69e73bc6220e1
DTSTAMP:20260421T095638
DTSTART:20180226T010000Z
DTEND:20180227T010000Z
TZID:UTC
LOCATION:Divadlo LETÍ Čapkova 4 140 00 Praha 4 Czech Republic 
SUMMARY:8° Czech National Playrights Meeting
DESCRIPTION: On 26th and 27th February will be the eighth National Playwrights Meeting with all the Czech authors selected and all the Fabulamundi’s partners.\nhttps://www.fabulamundi.eu/events/8-czech-national-playrights-meeting/
URL:https://www.fabulamundi.eu/events/8-czech-national-playrights-meeting/
END:VEVENT
END:VCALENDAR