BEGIN:VCALENDAR
VERSION:2.0
PRODID:-//eventon.com NONSGML v1.0//EN
BEGIN:VEVENT
UID:69e5e463581c4
DTSTAMP:20260420T093131
DTSTART:20180315T010000Z
DTEND:20180321T010000Z
TZID:UTC
LOCATION:PAV Via Buonarroti\,  30\,  Roma
SUMMARY:Roman Sikora in Artistic Residence in Castrovillari (Italy)
DESCRIPTION: The czech author Roman Sikora will be hosted in Castrovillari for a short residence on his text “Confession of a Masochist”\,  from the 15th to the 21th March. During the artistic residence\,  the author will work with the Italian company Rossosimona directed by Francesco Aiello.\nhttps://www.fabulamundi.eu/events/roman-sikora-in-artistic-residence-in-castrovillari-italy/
URL:https://www.fabulamundi.eu/events/roman-sikora-in-artistic-residence-in-castrovillari-italy/
END:VEVENT
END:VCALENDAR