BEGIN:VCALENDAR
VERSION:2.0
PRODID:-//eventon.com NONSGML v1.0//EN
BEGIN:VEVENT
UID:69e88e741bf20
DTSTAMP:20260422T100140
DTSTART:20181004T010000Z
DTEND:20181009T010000Z
TZID:UTC
LOCATION:Wiener Wortstaetten  Oswaldgasse 35A\,  1120 Wien
SUMMARY:Translation residency of Esteve Soler in Austria
DESCRIPTION: From the 5th to the 7th there will be the first part of the translation residency of the Spanish author Esteve Soler. The text Contra la llibertat play will be presented on November and directed by Hans Escher\,  with the dramaturgical support of Bernhard Studlar and the translation from Catalan[..]\nhttps://www.fabulamundi.eu/events/translation-residency-of-esteve-soler-in-austria/
URL:https://www.fabulamundi.eu/events/translation-residency-of-esteve-soler-in-austria/
END:VEVENT
END:VCALENDAR