BEGIN:VCALENDAR
VERSION:2.0
PRODID:-//eventon.com NONSGML v1.0//EN
BEGIN:VEVENT
UID:69e5ed92ac27c
DTSTAMP:20260420T101042
DTSTART:20190206T010000Z
DTEND:20190206T010000Z
TZID:UTC
LOCATION:Teatro Rasi Via di Roma\,  39\,  48121 Ravenna RA
SUMMARY:3 Fabulamundi texts at Teatro Rasi in Ravenna
DESCRIPTION: On February 6th\,  Teatro delle Albe will organize Avventure per nuovi mondi\,  a focus dedicated to the contemporary dramaturgy at Teatro Rasi in Ravenna\,  with readings of three Fabulamundi texts: Against progress and Against democracy by Spanish playwright Esteve Soler; The Lulu Projekt by French Magali Mougel and Fighters in[..]\nhttps://www.fabulamundi.eu/events/3-fabulamundi-texts-at-teatro-rasi-in-ravenna/
URL:https://www.fabulamundi.eu/events/3-fabulamundi-texts-at-teatro-rasi-in-ravenna/
END:VEVENT
END:VCALENDAR