BEGIN:VCALENDAR
VERSION:2.0
PRODID:-//eventon.com NONSGML v1.0//EN
BEGIN:VEVENT
UID:69e5e55013ab5
DTSTAMP:20260420T093528
DTSTART:20190320T010000Z
DTEND:20190320T010000Z
TZID:UTC
LOCATION:Divadlo LETÍ Čapkova 4 140 00 Praha 4 Czech Republic 
SUMMARY:"Europe Connection" by Alexandra Badea at Teatro Letì
DESCRIPTION: French author Alexandra Badea with her Europe Connection will be again on stage at Theatre Letì on March 20\,  with the direction of Adam Svozil.\nhttps://www.fabulamundi.eu/events/europe-connection-by-alexandra-badea-at-teatro-leti/
URL:https://www.fabulamundi.eu/events/europe-connection-by-alexandra-badea-at-teatro-leti/
END:VEVENT
END:VCALENDAR